BEGIN:VCALENDAR
VERSION:2.0
PRODID:-//Explore Wahkiakum County - ECPv6.15.15//NONSGML v1.0//EN
CALSCALE:GREGORIAN
METHOD:PUBLISH
X-WR-CALNAME:Explore Wahkiakum County
X-ORIGINAL-URL:https://wahkiakum.us
X-WR-CALDESC:Events for Explore Wahkiakum County
REFRESH-INTERVAL;VALUE=DURATION:PT1H
X-Robots-Tag:noindex
X-PUBLISHED-TTL:PT1H
BEGIN:VTIMEZONE
TZID:America/Los_Angeles
BEGIN:DAYLIGHT
TZOFFSETFROM:-0800
TZOFFSETTO:-0700
TZNAME:PDT
DTSTART:20250309T100000
END:DAYLIGHT
BEGIN:STANDARD
TZOFFSETFROM:-0700
TZOFFSETTO:-0800
TZNAME:PST
DTSTART:20251102T090000
END:STANDARD
BEGIN:DAYLIGHT
TZOFFSETFROM:-0800
TZOFFSETTO:-0700
TZNAME:PDT
DTSTART:20260308T100000
END:DAYLIGHT
BEGIN:STANDARD
TZOFFSETFROM:-0700
TZOFFSETTO:-0800
TZNAME:PST
DTSTART:20261101T090000
END:STANDARD
BEGIN:DAYLIGHT
TZOFFSETFROM:-0800
TZOFFSETTO:-0700
TZNAME:PDT
DTSTART:20270314T100000
END:DAYLIGHT
BEGIN:STANDARD
TZOFFSETFROM:-0700
TZOFFSETTO:-0800
TZNAME:PST
DTSTART:20271107T090000
END:STANDARD
END:VTIMEZONE
BEGIN:VEVENT
DTSTART;TZID=America/Los_Angeles:20260904T153000
DTEND;TZID=America/Los_Angeles:20260904T183000
DTSTAMP:20260420T080733
CREATED:20260210T235459Z
LAST-MODIFIED:20260210T235459Z
UID:10001011-1788535800-1788546600@wahkiakum.us
SUMMARY:Elochoman Marina Street Market
DESCRIPTION:Local vendors selling produce\, handmade goods\, baked items\, jewelry\, plants\, and more right at the Elochoman Slough Marina \nWant to become a vendor or have any questions regarding the Elochoman Marina Street Market\ncontact the Event Manager Mackenzie Jones 564-244-5977
URL:https://wahkiakum.us/event/elochoman-marina-street-market/2026-09-04/
LOCATION:Elochoman Slough Marina\, 500 2nd Street\, Cathlamet\, 98612\, United States
ATTACH;FMTTYPE=image/png:https://wahkiakum.us/wp-content/uploads/2026/01/Street-MarketFlyer-2026.png
END:VEVENT
BEGIN:VEVENT
DTSTART;TZID=America/Los_Angeles:20260911T153000
DTEND;TZID=America/Los_Angeles:20260911T183000
DTSTAMP:20260420T080733
CREATED:20260210T235459Z
LAST-MODIFIED:20260210T235459Z
UID:10001012-1789140600-1789151400@wahkiakum.us
SUMMARY:Elochoman Marina Street Market
DESCRIPTION:Local vendors selling produce\, handmade goods\, baked items\, jewelry\, plants\, and more right at the Elochoman Slough Marina \nWant to become a vendor or have any questions regarding the Elochoman Marina Street Market\ncontact the Event Manager Mackenzie Jones 564-244-5977
URL:https://wahkiakum.us/event/elochoman-marina-street-market/2026-09-11/
LOCATION:Elochoman Slough Marina\, 500 2nd Street\, Cathlamet\, 98612\, United States
ATTACH;FMTTYPE=image/png:https://wahkiakum.us/wp-content/uploads/2026/01/Street-MarketFlyer-2026.png
END:VEVENT
BEGIN:VEVENT
DTSTART;TZID=America/Los_Angeles:20260912T100000
DTEND;TZID=America/Los_Angeles:20260912T170000
DTSTAMP:20260420T080733
CREATED:20260313T203831Z
LAST-MODIFIED:20260313T203831Z
UID:10001081-1789207200-1789232400@wahkiakum.us
SUMMARY:Vista Park Annual Kite Festival
DESCRIPTION:Come enjoy the kites high in the sky while you browse all thru all of the vendors. feel free to bring your own kite to fly at the Park. There will be food\, crafts and home made goods.
URL:https://wahkiakum.us/event/vista-park-annual-kite-festival/
LOCATION:Vista Park\, 5 Vista Park Rd\, Skamokawa\, WA\, 98647\, United States
ATTACH;FMTTYPE=image/jpeg:https://wahkiakum.us/wp-content/uploads/2026/03/Sarah-Jackson6.jpg
ORGANIZER;CN="Wahkiakum Port Dist. #2":MAILTO:info@wahport2.org
END:VEVENT
BEGIN:VEVENT
DTSTART;TZID=America/Los_Angeles:20260918T153000
DTEND;TZID=America/Los_Angeles:20260918T183000
DTSTAMP:20260420T080733
CREATED:20260210T235459Z
LAST-MODIFIED:20260210T235459Z
UID:10001013-1789745400-1789756200@wahkiakum.us
SUMMARY:Elochoman Marina Street Market
DESCRIPTION:Local vendors selling produce\, handmade goods\, baked items\, jewelry\, plants\, and more right at the Elochoman Slough Marina \nWant to become a vendor or have any questions regarding the Elochoman Marina Street Market\ncontact the Event Manager Mackenzie Jones 564-244-5977
URL:https://wahkiakum.us/event/elochoman-marina-street-market/2026-09-18/
LOCATION:Elochoman Slough Marina\, 500 2nd Street\, Cathlamet\, 98612\, United States
ATTACH;FMTTYPE=image/png:https://wahkiakum.us/wp-content/uploads/2026/01/Street-MarketFlyer-2026.png
END:VEVENT
BEGIN:VEVENT
DTSTART;TZID=America/Los_Angeles:20260925T153000
DTEND;TZID=America/Los_Angeles:20260925T183000
DTSTAMP:20260420T080733
CREATED:20260210T235459Z
LAST-MODIFIED:20260210T235459Z
UID:10001014-1790350200-1790361000@wahkiakum.us
SUMMARY:Elochoman Marina Street Market
DESCRIPTION:Local vendors selling produce\, handmade goods\, baked items\, jewelry\, plants\, and more right at the Elochoman Slough Marina \nWant to become a vendor or have any questions regarding the Elochoman Marina Street Market\ncontact the Event Manager Mackenzie Jones 564-244-5977
URL:https://wahkiakum.us/event/elochoman-marina-street-market/2026-09-25/
LOCATION:Elochoman Slough Marina\, 500 2nd Street\, Cathlamet\, 98612\, United States
ATTACH;FMTTYPE=image/png:https://wahkiakum.us/wp-content/uploads/2026/01/Street-MarketFlyer-2026.png
END:VEVENT
END:VCALENDAR