BEGIN:VCALENDAR
VERSION:2.0
PRODID:-//Explore Wahkiakum County - ECPv6.15.15//NONSGML v1.0//EN
CALSCALE:GREGORIAN
METHOD:PUBLISH
X-WR-CALNAME:Explore Wahkiakum County
X-ORIGINAL-URL:https://wahkiakum.us
X-WR-CALDESC:Events for Explore Wahkiakum County
REFRESH-INTERVAL;VALUE=DURATION:PT1H
X-Robots-Tag:noindex
X-PUBLISHED-TTL:PT1H
BEGIN:VTIMEZONE
TZID:America/Los_Angeles
BEGIN:DAYLIGHT
TZOFFSETFROM:-0800
TZOFFSETTO:-0700
TZNAME:PDT
DTSTART:20250309T100000
END:DAYLIGHT
BEGIN:STANDARD
TZOFFSETFROM:-0700
TZOFFSETTO:-0800
TZNAME:PST
DTSTART:20251102T090000
END:STANDARD
BEGIN:DAYLIGHT
TZOFFSETFROM:-0800
TZOFFSETTO:-0700
TZNAME:PDT
DTSTART:20260308T100000
END:DAYLIGHT
BEGIN:STANDARD
TZOFFSETFROM:-0700
TZOFFSETTO:-0800
TZNAME:PST
DTSTART:20261101T090000
END:STANDARD
BEGIN:DAYLIGHT
TZOFFSETFROM:-0800
TZOFFSETTO:-0700
TZNAME:PDT
DTSTART:20270314T100000
END:DAYLIGHT
BEGIN:STANDARD
TZOFFSETFROM:-0700
TZOFFSETTO:-0800
TZNAME:PST
DTSTART:20271107T090000
END:STANDARD
END:VTIMEZONE
BEGIN:VEVENT
DTSTART;TZID=America/Los_Angeles:20260605T153000
DTEND;TZID=America/Los_Angeles:20260605T183000
DTSTAMP:20260420T031820
CREATED:20260210T235459Z
LAST-MODIFIED:20260210T235459Z
UID:10000998-1780673400-1780684200@wahkiakum.us
SUMMARY:Elochoman Marina Street Market
DESCRIPTION:Local vendors selling produce\, handmade goods\, baked items\, jewelry\, plants\, and more right at the Elochoman Slough Marina \nWant to become a vendor or have any questions regarding the Elochoman Marina Street Market\ncontact the Event Manager Mackenzie Jones 564-244-5977
URL:https://wahkiakum.us/event/elochoman-marina-street-market/2026-06-05/
LOCATION:Elochoman Slough Marina\, 500 2nd Street\, Cathlamet\, 98612\, United States
ATTACH;FMTTYPE=image/png:https://wahkiakum.us/wp-content/uploads/2026/01/Street-MarketFlyer-2026.png
END:VEVENT
BEGIN:VEVENT
DTSTART;TZID=America/Los_Angeles:20260612T153000
DTEND;TZID=America/Los_Angeles:20260612T183000
DTSTAMP:20260420T031820
CREATED:20260210T235459Z
LAST-MODIFIED:20260210T235459Z
UID:10000999-1781278200-1781289000@wahkiakum.us
SUMMARY:Elochoman Marina Street Market
DESCRIPTION:Local vendors selling produce\, handmade goods\, baked items\, jewelry\, plants\, and more right at the Elochoman Slough Marina \nWant to become a vendor or have any questions regarding the Elochoman Marina Street Market\ncontact the Event Manager Mackenzie Jones 564-244-5977
URL:https://wahkiakum.us/event/elochoman-marina-street-market/2026-06-12/
LOCATION:Elochoman Slough Marina\, 500 2nd Street\, Cathlamet\, 98612\, United States
ATTACH;FMTTYPE=image/png:https://wahkiakum.us/wp-content/uploads/2026/01/Street-MarketFlyer-2026.png
END:VEVENT
BEGIN:VEVENT
DTSTART;TZID=America/Los_Angeles:20260613T173000
DTEND;TZID=America/Los_Angeles:20260613T200000
DTSTAMP:20260420T031820
CREATED:20260218T223157Z
LAST-MODIFIED:20260218T223157Z
UID:10001073-1781371800-1781380800@wahkiakum.us
SUMMARY:Norse Hall Community Bingo & Raffle
DESCRIPTION:Doors open at 5:30 PM and ten games begin at 6 PM\nCash Prizes\n$5 per Bingo Card\n$1 per ticket: 50/50 Cash Jackpot Raffle
URL:https://wahkiakum.us/event/norse-hall-community-bingo-raffle-3/
LOCATION:Norse Hall\, 444 WA-409\, Cathlamet\, 98612\, United States
ATTACH;FMTTYPE=image/png:https://wahkiakum.us/wp-content/uploads/2026/02/SON-Logo-3.png
END:VEVENT
BEGIN:VEVENT
DTSTART;TZID=America/Los_Angeles:20260619T153000
DTEND;TZID=America/Los_Angeles:20260619T183000
DTSTAMP:20260420T031820
CREATED:20260210T235459Z
LAST-MODIFIED:20260210T235459Z
UID:10001000-1781883000-1781893800@wahkiakum.us
SUMMARY:Elochoman Marina Street Market
DESCRIPTION:Local vendors selling produce\, handmade goods\, baked items\, jewelry\, plants\, and more right at the Elochoman Slough Marina \nWant to become a vendor or have any questions regarding the Elochoman Marina Street Market\ncontact the Event Manager Mackenzie Jones 564-244-5977
URL:https://wahkiakum.us/event/elochoman-marina-street-market/2026-06-19/
LOCATION:Elochoman Slough Marina\, 500 2nd Street\, Cathlamet\, 98612\, United States
ATTACH;FMTTYPE=image/png:https://wahkiakum.us/wp-content/uploads/2026/01/Street-MarketFlyer-2026.png
END:VEVENT
BEGIN:VEVENT
DTSTART;TZID=America/Los_Angeles:20260626T090000
DTEND;TZID=America/Los_Angeles:20260626T170000
DTSTAMP:20260420T031820
CREATED:20260210T235536Z
LAST-MODIFIED:20260219T174039Z
UID:10000994-1782464400-1782493200@wahkiakum.us
SUMMARY:PIGYS – Puget Island Garage and Yard Sale
DESCRIPTION:Annual event with many Puget Islanders having Garage and Yard Sales.\nThere will be a map after you cross the bridge and as you exit the ferry listing all of the Garage and Yard Sales. \nThis event is happening on Friday\, June 26 – Sunday\, June 28. Sales are open from 9am – 5pm each day.
URL:https://wahkiakum.us/event/pigys-puget-island-garage-and-yard-sales/2026-06-26/
ATTACH;FMTTYPE=image/png:https://wahkiakum.us/wp-content/uploads/2026/02/Sale.png
END:VEVENT
BEGIN:VEVENT
DTSTART;TZID=America/Los_Angeles:20260626T153000
DTEND;TZID=America/Los_Angeles:20260626T183000
DTSTAMP:20260420T031820
CREATED:20260210T235459Z
LAST-MODIFIED:20260210T235459Z
UID:10001001-1782487800-1782498600@wahkiakum.us
SUMMARY:Elochoman Marina Street Market
DESCRIPTION:Local vendors selling produce\, handmade goods\, baked items\, jewelry\, plants\, and more right at the Elochoman Slough Marina \nWant to become a vendor or have any questions regarding the Elochoman Marina Street Market\ncontact the Event Manager Mackenzie Jones 564-244-5977
URL:https://wahkiakum.us/event/elochoman-marina-street-market/2026-06-26/
LOCATION:Elochoman Slough Marina\, 500 2nd Street\, Cathlamet\, 98612\, United States
ATTACH;FMTTYPE=image/png:https://wahkiakum.us/wp-content/uploads/2026/01/Street-MarketFlyer-2026.png
END:VEVENT
BEGIN:VEVENT
DTSTART;TZID=America/Los_Angeles:20260627T090000
DTEND;TZID=America/Los_Angeles:20260627T170000
DTSTAMP:20260420T031820
CREATED:20260210T235536Z
LAST-MODIFIED:20260219T174039Z
UID:10000995-1782550800-1782579600@wahkiakum.us
SUMMARY:PIGYS – Puget Island Garage and Yard Sale
DESCRIPTION:Annual event with many Puget Islanders having Garage and Yard Sales.\nThere will be a map after you cross the bridge and as you exit the ferry listing all of the Garage and Yard Sales. \nThis event is happening on Friday\, June 26 – Sunday\, June 28. Sales are open from 9am – 5pm each day.
URL:https://wahkiakum.us/event/pigys-puget-island-garage-and-yard-sales/2026-06-27/
ATTACH;FMTTYPE=image/png:https://wahkiakum.us/wp-content/uploads/2026/02/Sale.png
END:VEVENT
BEGIN:VEVENT
DTSTART;TZID=America/Los_Angeles:20260628T090000
DTEND;TZID=America/Los_Angeles:20260628T170000
DTSTAMP:20260420T031820
CREATED:20260210T235536Z
LAST-MODIFIED:20260219T174039Z
UID:10000996-1782637200-1782666000@wahkiakum.us
SUMMARY:PIGYS – Puget Island Garage and Yard Sale
DESCRIPTION:Annual event with many Puget Islanders having Garage and Yard Sales.\nThere will be a map after you cross the bridge and as you exit the ferry listing all of the Garage and Yard Sales. \nThis event is happening on Friday\, June 26 – Sunday\, June 28. Sales are open from 9am – 5pm each day.
URL:https://wahkiakum.us/event/pigys-puget-island-garage-and-yard-sales/2026-06-28/
ATTACH;FMTTYPE=image/png:https://wahkiakum.us/wp-content/uploads/2026/02/Sale.png
END:VEVENT
END:VCALENDAR