BEGIN:VCALENDAR
VERSION:2.0
PRODID:-//Explore Wahkiakum County - ECPv6.15.15//NONSGML v1.0//EN
CALSCALE:GREGORIAN
METHOD:PUBLISH
X-WR-CALNAME:Explore Wahkiakum County
X-ORIGINAL-URL:https://wahkiakum.us
X-WR-CALDESC:Events for Explore Wahkiakum County
REFRESH-INTERVAL;VALUE=DURATION:PT1H
X-Robots-Tag:noindex
X-PUBLISHED-TTL:PT1H
BEGIN:VTIMEZONE
TZID:America/Los_Angeles
BEGIN:DAYLIGHT
TZOFFSETFROM:-0800
TZOFFSETTO:-0700
TZNAME:PDT
DTSTART:20250309T100000
END:DAYLIGHT
BEGIN:STANDARD
TZOFFSETFROM:-0700
TZOFFSETTO:-0800
TZNAME:PST
DTSTART:20251102T090000
END:STANDARD
BEGIN:DAYLIGHT
TZOFFSETFROM:-0800
TZOFFSETTO:-0700
TZNAME:PDT
DTSTART:20260308T100000
END:DAYLIGHT
BEGIN:STANDARD
TZOFFSETFROM:-0700
TZOFFSETTO:-0800
TZNAME:PST
DTSTART:20261101T090000
END:STANDARD
BEGIN:DAYLIGHT
TZOFFSETFROM:-0800
TZOFFSETTO:-0700
TZNAME:PDT
DTSTART:20270314T100000
END:DAYLIGHT
BEGIN:STANDARD
TZOFFSETFROM:-0700
TZOFFSETTO:-0800
TZNAME:PST
DTSTART:20271107T090000
END:STANDARD
END:VTIMEZONE
BEGIN:VEVENT
DTSTART;TZID=America/Los_Angeles:20260509T173000
DTEND;TZID=America/Los_Angeles:20260509T200000
DTSTAMP:20260420T015441
CREATED:20260218T220618Z
LAST-MODIFIED:20260218T220618Z
UID:10001072-1778347800-1778356800@wahkiakum.us
SUMMARY:Norse Hall Community Bingo & Raffle
DESCRIPTION:Doors open at 5:30 PM and ten games begin at 6 PM\nCash Prizes\n$5 per Bingo Card\n$1 per ticket: 50/50 Cash Jackpot Raffle
URL:https://wahkiakum.us/event/norse-hall-community-bingo-raffle/
LOCATION:Norse Hall\, 444 WA-409\, Cathlamet\, 98612\, United States
CATEGORIES:Fun & Games,Groups/Organizations
ATTACH;FMTTYPE=image/png:https://wahkiakum.us/wp-content/uploads/2026/02/SON-Logo-2.png
END:VEVENT
BEGIN:VEVENT
DTSTART;TZID=America/Los_Angeles:20260516T100000
DTEND;TZID=America/Los_Angeles:20260516T150000
DTSTAMP:20260420T015441
CREATED:20260313T203807Z
LAST-MODIFIED:20260313T203807Z
UID:10001080-1778925600-1778943600@wahkiakum.us
SUMMARY:Annual Spring Bazaar
DESCRIPTION:This is Vista Parks 2nd Annual Indoor Spring Bazaar located at 5 Vista Park Rd\, Skamokawa. Grab your friend and come shop and support our local vendors!
URL:https://wahkiakum.us/event/annual-spring-bazaar/
LOCATION:Vista Park\, 5 Vista Park Rd\, Skamokawa\, WA\, 98647\, United States
ATTACH;FMTTYPE=image/png:https://wahkiakum.us/wp-content/uploads/2026/03/Spring-Bazaar.png
ORGANIZER;CN="Wahkiakum Port Dist. #2":MAILTO:info@wahport2.org
END:VEVENT
BEGIN:VEVENT
DTSTART;TZID=America/Los_Angeles:20260522T153000
DTEND;TZID=America/Los_Angeles:20260522T183000
DTSTAMP:20260420T015441
CREATED:20260210T235459Z
LAST-MODIFIED:20260210T235459Z
UID:10000974-1779463800-1779474600@wahkiakum.us
SUMMARY:Elochoman Marina Street Market
DESCRIPTION:Local vendors selling produce\, handmade goods\, baked items\, jewelry\, plants\, and more right at the Elochoman Slough Marina \nWant to become a vendor or have any questions regarding the Elochoman Marina Street Market\ncontact the Event Manager Mackenzie Jones 564-244-5977
URL:https://wahkiakum.us/event/elochoman-marina-street-market/2026-05-22/
LOCATION:Elochoman Slough Marina\, 500 2nd Street\, Cathlamet\, 98612\, United States
ATTACH;FMTTYPE=image/png:https://wahkiakum.us/wp-content/uploads/2026/01/Street-MarketFlyer-2026.png
END:VEVENT
BEGIN:VEVENT
DTSTART;TZID=America/Los_Angeles:20260529T153000
DTEND;TZID=America/Los_Angeles:20260529T183000
DTSTAMP:20260420T015441
CREATED:20260210T235459Z
LAST-MODIFIED:20260210T235459Z
UID:10000997-1780068600-1780079400@wahkiakum.us
SUMMARY:Elochoman Marina Street Market
DESCRIPTION:Local vendors selling produce\, handmade goods\, baked items\, jewelry\, plants\, and more right at the Elochoman Slough Marina \nWant to become a vendor or have any questions regarding the Elochoman Marina Street Market\ncontact the Event Manager Mackenzie Jones 564-244-5977
URL:https://wahkiakum.us/event/elochoman-marina-street-market/2026-05-29/
LOCATION:Elochoman Slough Marina\, 500 2nd Street\, Cathlamet\, 98612\, United States
ATTACH;FMTTYPE=image/png:https://wahkiakum.us/wp-content/uploads/2026/01/Street-MarketFlyer-2026.png
END:VEVENT
END:VCALENDAR