BEGIN:VCALENDAR
VERSION:2.0
PRODID:-//Explore Wahkiakum County - ECPv6.15.15//NONSGML v1.0//EN
CALSCALE:GREGORIAN
METHOD:PUBLISH
X-WR-CALNAME:Explore Wahkiakum County
X-ORIGINAL-URL:https://wahkiakum.us
X-WR-CALDESC:Events for Explore Wahkiakum County
REFRESH-INTERVAL;VALUE=DURATION:PT1H
X-Robots-Tag:noindex
X-PUBLISHED-TTL:PT1H
BEGIN:VTIMEZONE
TZID:America/Los_Angeles
BEGIN:DAYLIGHT
TZOFFSETFROM:-0800
TZOFFSETTO:-0700
TZNAME:PDT
DTSTART:20250309T100000
END:DAYLIGHT
BEGIN:STANDARD
TZOFFSETFROM:-0700
TZOFFSETTO:-0800
TZNAME:PST
DTSTART:20251102T090000
END:STANDARD
BEGIN:DAYLIGHT
TZOFFSETFROM:-0800
TZOFFSETTO:-0700
TZNAME:PDT
DTSTART:20260308T100000
END:DAYLIGHT
BEGIN:STANDARD
TZOFFSETFROM:-0700
TZOFFSETTO:-0800
TZNAME:PST
DTSTART:20261101T090000
END:STANDARD
BEGIN:DAYLIGHT
TZOFFSETFROM:-0800
TZOFFSETTO:-0700
TZNAME:PDT
DTSTART:20270314T100000
END:DAYLIGHT
BEGIN:STANDARD
TZOFFSETFROM:-0700
TZOFFSETTO:-0800
TZNAME:PST
DTSTART:20271107T090000
END:STANDARD
END:VTIMEZONE
BEGIN:VEVENT
DTSTART;TZID=America/Los_Angeles:20260207T150000
DTEND;TZID=America/Los_Angeles:20260207T210000
DTSTAMP:20260420T031818
CREATED:20251120T222722Z
LAST-MODIFIED:20251216T175950Z
UID:10000942-1770476400-1770498000@wahkiakum.us
SUMMARY:40th Annual Crab and Oyster Feed
DESCRIPTION:BUY TICKETS
URL:https://wahkiakum.us/event/40th-annual-crab-and-oyster-feed/
LOCATION:Columbia River Ranch\, 381 W Birnie Slough Rd\, Cathlamet\, WA\, 98612\, United States
ATTACH;FMTTYPE=image/jpeg:https://wahkiakum.us/wp-content/uploads/2025/11/Crabby-in-Cathlamet.jpg
ORGANIZER;CN="Wahkiakum Chamber of Commerce":MAILTO:info@wahkiakum.us
END:VEVENT
BEGIN:VEVENT
DTSTART;TZID=America/Los_Angeles:20260207T180000
DTEND;TZID=America/Los_Angeles:20260207T203000
DTSTAMP:20260420T031818
CREATED:20260126T211208Z
LAST-MODIFIED:20260126T211208Z
UID:10000970-1770487200-1770496200@wahkiakum.us
SUMMARY:Valentine's Bingo
DESCRIPTION:Bingo at the Fairgrounds!
URL:https://wahkiakum.us/event/valentines-bingo/
LOCATION:Wahkiakum County Fairgrounds\, 16 Fairgrounds Rd\, Skamokawa\, 98647\, United States
END:VEVENT
BEGIN:VEVENT
DTSTART;TZID=America/Los_Angeles:20260212T180000
DTEND;TZID=America/Los_Angeles:20260212T210000
DTSTAMP:20260420T031818
CREATED:20260126T211040Z
LAST-MODIFIED:20260126T211040Z
UID:10000969-1770919200-1770930000@wahkiakum.us
SUMMARY:Galantines Cookie Decorating Class
DESCRIPTION:Galantines cookie decorating class at the Spar restaurant & bar!\nFeb 12th 6:00pm\n83 Main St Cathlamet\, WA 98612\n$40 per student all supplies includedIn this class we will decorate Galentines themed cookies.Each class kit will have the 6 cookies\, 4 bags of frosting\, the tools needed to complete the cookies all with the box to take them all home in. You will also learn how to use an airbrush and stencil on your cookies.Want to decorate at home? You can order a class kit for $20 and pick it up during the class!CLASS SIGN UP INFOTo sign up for this class it will be on a first come first serve basis. Message Michelle on her Facebook account or the class IG @CookieClassWA with the number of seats requested. You can pay with Venmo\, PayPal\, Facebook pay or Apple Pay. If none of those work for you she can arrange a different payment.You have 24 hours to reserve and pay for your seat before it goes to the next person on the list. There will be a waiting list if the class fills up.\nIf you pay for the class and cannot make it\, you have up to 48 hours before to get a full refund. If you cancel up to 24 hours before you can use that money again for another class. If you no-show for the class you forfeit your class fee.\nThis will be my first class at the Spar restaurant & bar. I am super excited to bring cookie decorating to the area. In this class\, we will create some beautiful and fun Galentine‘s cookies. I will show you from start to finish how to decorate the cookies along with how to do basic airbrush techniques with stencils. This class is welcome to all ages. Bring your favorite gal or guy. If you have any questions feel free to send me a message!There will be cocktails\, mocktails\, and delicious food before and during class available.
URL:https://wahkiakum.us/event/galantines-cookie-decorating-class/
LOCATION:The Spar\, 83 Main Street\, Cathlamet\, WA\, 98612\, United States
ATTACH;FMTTYPE=image/jpeg:https://wahkiakum.us/wp-content/uploads/2026/01/619657912_25885734257731556_6716116854179588165_n.jpg
END:VEVENT
BEGIN:VEVENT
DTSTART;TZID=America/Los_Angeles:20260213T100000
DTEND;TZID=America/Los_Angeles:20260214T160000
DTSTAMP:20260420T031818
CREATED:20260126T211547Z
LAST-MODIFIED:20260126T212105Z
UID:10000972-1770976800-1771084800@wahkiakum.us
SUMMARY:Valentine's Flowers
DESCRIPTION:
URL:https://wahkiakum.us/event/valentines-flowers/
LOCATION:Tsuga Art Gallery\, 70 Main St\, Cathlamet\, WA\, 98612\, United States
ATTACH;FMTTYPE=image/jpeg:https://wahkiakum.us/wp-content/uploads/2026/01/617875623_1332450472018027_7389602661774311839_n.jpg
END:VEVENT
BEGIN:VEVENT
DTSTART;TZID=America/Los_Angeles:20260214T090000
DTEND;TZID=America/Los_Angeles:20260214T140000
DTSTAMP:20260420T031818
CREATED:20260126T212036Z
LAST-MODIFIED:20260126T212036Z
UID:10000973-1771059600-1771077600@wahkiakum.us
SUMMARY:Fairgrounds Flea Market
DESCRIPTION:Find your Treasure every Second Saturday!
URL:https://wahkiakum.us/event/fairgrounds-flea-market/
LOCATION:Wahkiakum County Fairgrounds\, 16 Fairgrounds Rd\, Skamokawa\, 98647\, United States
ATTACH;FMTTYPE=image/png:https://wahkiakum.us/wp-content/uploads/2026/01/Flea-market.png
END:VEVENT
BEGIN:VEVENT
DTSTART;TZID=America/Los_Angeles:20260214T173000
DTEND;TZID=America/Los_Angeles:20260214T200000
DTSTAMP:20260420T031818
CREATED:20251211T195438Z
LAST-MODIFIED:20251211T195438Z
UID:10000950-1771090200-1771099200@wahkiakum.us
SUMMARY:Norse Hall Community Bingo
DESCRIPTION:Doors open at 5:30 PM and games begin at 6 PM\nCash Prizes\n$5 per Bingo Card
URL:https://wahkiakum.us/event/norse-hall-community-bingo-2/
LOCATION:Norse Hall\, 444 WA-409\, Cathlamet\, 98612\, United States
ATTACH;FMTTYPE=image/png:https://wahkiakum.us/wp-content/uploads/2025/12/SON-Logo-1.png
END:VEVENT
BEGIN:VEVENT
DTSTART;TZID=America/Los_Angeles:20260214T193000
DTEND;TZID=America/Los_Angeles:20260214T213000
DTSTAMP:20260420T031818
CREATED:20260210T235657Z
LAST-MODIFIED:20260210T235657Z
UID:10000993-1771097400-1771104600@wahkiakum.us
SUMMARY:Disenchanted-The Hit Musical Comedy
DESCRIPTION:Book\, Music\, Lyrics by Dennis T. Giacino with Fiely Matias \nPoisoned apples. Glass slippers. Who needs ’em?! \nNot Snow White and her posse of disenchanted princesses in the hilarious hit musical that’s anything but Grimm. Forget the princesses you think you know – the original storybook heroines have come to life to set the record straight.
URL:https://wahkiakum.us/event/disenchanted-the-hit-musical-comedy/
LOCATION:Columbia Theatre for the Performing Arts\, 1231 Vandercook Way\, Longview\, 98632
ATTACH;FMTTYPE=image/png:https://wahkiakum.us/wp-content/uploads/2026/02/Evvnt-Header-Pic-20252026-Landscape-4-2.png
ORGANIZER;CN="Columbia Theatre Association for the Performing Arts":MAILTO:info@columbiatheatre.com
END:VEVENT
BEGIN:VEVENT
DTSTART;TZID=America/Los_Angeles:20260228T150000
DTEND;TZID=America/Los_Angeles:20260228T190000
DTSTAMP:20260420T031818
CREATED:20260218T220712Z
LAST-MODIFIED:20260218T220712Z
UID:10001068-1772290800-1772305200@wahkiakum.us
SUMMARY:Skamokawa Grange #425 Open Mic
DESCRIPTION:Open Mic at the Skamokawa Grange\, February 28th\, sign up at 2:45 pm and the event begins at 3:00 pm
URL:https://wahkiakum.us/event/skamokawa-grange-425-open-mic/
LOCATION:skamokawa grange\, 18 farigrounds rd\, skamokawa\, washington\, 98647
CATEGORIES:All Ages/Family Friendly
ATTACH;FMTTYPE=image/jpeg:https://wahkiakum.us/wp-content/uploads/2026/02/Slide1.jpg
ORGANIZER;CN="Skamokawa Grange #425":MAILTO:beckyhsjewelry@yahoo.com
END:VEVENT
END:VCALENDAR