BEGIN:VCALENDAR
VERSION:2.0
PRODID:-//Explore Wahkiakum County - ECPv6.15.15//NONSGML v1.0//EN
CALSCALE:GREGORIAN
METHOD:PUBLISH
X-WR-CALNAME:Explore Wahkiakum County
X-ORIGINAL-URL:https://wahkiakum.us
X-WR-CALDESC:Events for Explore Wahkiakum County
REFRESH-INTERVAL;VALUE=DURATION:PT1H
X-Robots-Tag:noindex
X-PUBLISHED-TTL:PT1H
BEGIN:VTIMEZONE
TZID:America/Los_Angeles
BEGIN:DAYLIGHT
TZOFFSETFROM:-0800
TZOFFSETTO:-0700
TZNAME:PDT
DTSTART:20250309T100000
END:DAYLIGHT
BEGIN:STANDARD
TZOFFSETFROM:-0700
TZOFFSETTO:-0800
TZNAME:PST
DTSTART:20251102T090000
END:STANDARD
BEGIN:DAYLIGHT
TZOFFSETFROM:-0800
TZOFFSETTO:-0700
TZNAME:PDT
DTSTART:20260308T100000
END:DAYLIGHT
BEGIN:STANDARD
TZOFFSETFROM:-0700
TZOFFSETTO:-0800
TZNAME:PST
DTSTART:20261101T090000
END:STANDARD
BEGIN:DAYLIGHT
TZOFFSETFROM:-0800
TZOFFSETTO:-0700
TZNAME:PDT
DTSTART:20270314T100000
END:DAYLIGHT
BEGIN:STANDARD
TZOFFSETFROM:-0700
TZOFFSETTO:-0800
TZNAME:PST
DTSTART:20271107T090000
END:STANDARD
BEGIN:DAYLIGHT
TZOFFSETFROM:-0800
TZOFFSETTO:-0700
TZNAME:PDT
DTSTART:20280312T100000
END:DAYLIGHT
BEGIN:STANDARD
TZOFFSETFROM:-0700
TZOFFSETTO:-0800
TZNAME:PST
DTSTART:20281105T090000
END:STANDARD
BEGIN:DAYLIGHT
TZOFFSETFROM:-0800
TZOFFSETTO:-0700
TZNAME:PDT
DTSTART:20290311T100000
END:DAYLIGHT
BEGIN:STANDARD
TZOFFSETFROM:-0700
TZOFFSETTO:-0800
TZNAME:PST
DTSTART:20291104T090000
END:STANDARD
END:VTIMEZONE
BEGIN:VEVENT
DTSTART;TZID=America/Los_Angeles:20261016T153000
DTEND;TZID=America/Los_Angeles:20261016T183000
DTSTAMP:20260420T175149
CREATED:20260210T235459Z
LAST-MODIFIED:20260210T235459Z
UID:10001017-1792164600-1792175400@wahkiakum.us
SUMMARY:Elochoman Marina Street Market
DESCRIPTION:Local vendors selling produce\, handmade goods\, baked items\, jewelry\, plants\, and more right at the Elochoman Slough Marina \nWant to become a vendor or have any questions regarding the Elochoman Marina Street Market\ncontact the Event Manager Mackenzie Jones 564-244-5977
URL:https://wahkiakum.us/event/elochoman-marina-street-market/2026-10-16/
LOCATION:Elochoman Slough Marina\, 500 2nd Street\, Cathlamet\, 98612\, United States
ATTACH;FMTTYPE=image/png:https://wahkiakum.us/wp-content/uploads/2026/01/Street-MarketFlyer-2026.png
END:VEVENT
BEGIN:VEVENT
DTSTART;TZID=America/Los_Angeles:20261205T160000
DTEND;TZID=America/Los_Angeles:20280104T220000
DTSTAMP:20260420T175149
CREATED:20260313T203850Z
LAST-MODIFIED:20260313T203850Z
UID:10001082-1796486400-1830636000@wahkiakum.us
SUMMARY:Holiday Drive-thru Light Display
DESCRIPTION:Come enjoy Vista Parks annual drive-thru holiday light display. Lights come on at dusk and you are welcome to drive thru as many times as you would like until 10pm. Donations are always welcome.
URL:https://wahkiakum.us/event/holiday-drive-thru-light-display/
LOCATION:Vista Park\, 5 Vista Park Rd\, Skamokawa\, WA\, 98647\, United States
ATTACH;FMTTYPE=image/jpeg:https://wahkiakum.us/wp-content/uploads/2026/03/Snowman.jpg
ORGANIZER;CN="Wahkiakum Port Dist. #2":MAILTO:info@wahport2.org
END:VEVENT
END:VCALENDAR