BEGIN:VCALENDAR
VERSION:2.0
PRODID:-//Explore Wahkiakum County - ECPv6.15.15//NONSGML v1.0//EN
CALSCALE:GREGORIAN
METHOD:PUBLISH
X-WR-CALNAME:Explore Wahkiakum County
X-ORIGINAL-URL:https://wahkiakum.us
X-WR-CALDESC:Events for Explore Wahkiakum County
REFRESH-INTERVAL;VALUE=DURATION:PT1H
X-Robots-Tag:noindex
X-PUBLISHED-TTL:PT1H
BEGIN:VTIMEZONE
TZID:America/Los_Angeles
BEGIN:DAYLIGHT
TZOFFSETFROM:-0800
TZOFFSETTO:-0700
TZNAME:PDT
DTSTART:20250309T100000
END:DAYLIGHT
BEGIN:STANDARD
TZOFFSETFROM:-0700
TZOFFSETTO:-0800
TZNAME:PST
DTSTART:20251102T090000
END:STANDARD
BEGIN:DAYLIGHT
TZOFFSETFROM:-0800
TZOFFSETTO:-0700
TZNAME:PDT
DTSTART:20260308T100000
END:DAYLIGHT
BEGIN:STANDARD
TZOFFSETFROM:-0700
TZOFFSETTO:-0800
TZNAME:PST
DTSTART:20261101T090000
END:STANDARD
BEGIN:DAYLIGHT
TZOFFSETFROM:-0800
TZOFFSETTO:-0700
TZNAME:PDT
DTSTART:20270314T100000
END:DAYLIGHT
BEGIN:STANDARD
TZOFFSETFROM:-0700
TZOFFSETTO:-0800
TZNAME:PST
DTSTART:20271107T090000
END:STANDARD
END:VTIMEZONE
BEGIN:VEVENT
DTSTART;TZID=America/Los_Angeles:20260912T100000
DTEND;TZID=America/Los_Angeles:20260912T170000
DTSTAMP:20260420T093455
CREATED:20260313T203831Z
LAST-MODIFIED:20260313T203831Z
UID:10001081-1789207200-1789232400@wahkiakum.us
SUMMARY:Vista Park Annual Kite Festival
DESCRIPTION:Come enjoy the kites high in the sky while you browse all thru all of the vendors. feel free to bring your own kite to fly at the Park. There will be food\, crafts and home made goods.
URL:https://wahkiakum.us/event/vista-park-annual-kite-festival/
LOCATION:Vista Park\, 5 Vista Park Rd\, Skamokawa\, WA\, 98647\, United States
ATTACH;FMTTYPE=image/jpeg:https://wahkiakum.us/wp-content/uploads/2026/03/Sarah-Jackson6.jpg
ORGANIZER;CN="Wahkiakum Port Dist. #2":MAILTO:info@wahport2.org
END:VEVENT
END:VCALENDAR